Package: LEA Version: 3.21.0 Command: /Library/Frameworks/R.framework/Resources/bin/R CMD check --install=check:LEA.install-out.txt --library=/Library/Frameworks/R.framework/Resources/library --no-vignettes --timings LEA_3.21.0.tar.gz StartedAt: 2025-07-02 21:24:03 -0400 (Wed, 02 Jul 2025) EndedAt: 2025-07-02 21:26:32 -0400 (Wed, 02 Jul 2025) EllapsedTime: 149.4 seconds RetCode: 0 Status: OK CheckDir: LEA.Rcheck Warnings: 0