Package: LEA Version: 3.21.0 Command: /Library/Frameworks/R.framework/Resources/bin/R CMD INSTALL LEA StartedAt: 2025-07-13 15:02:14 -0400 (Sun, 13 Jul 2025) EndedAt: 2025-07-13 15:02:22 -0400 (Sun, 13 Jul 2025) EllapsedTime: 7.5 seconds RetCode: 0 Status: OK