Package: LEA Version: 3.21.0 Command: /Library/Frameworks/R.framework/Resources/bin/R CMD build --keep-empty-dirs --no-resave-data LEA StartedAt: 2025-07-13 16:43:15 -0400 (Sun, 13 Jul 2025) EndedAt: 2025-07-13 16:44:01 -0400 (Sun, 13 Jul 2025) EllapsedTime: 46.5 seconds RetCode: 0 Status: OK PackageFile: LEA_3.21.0.tar.gz PackageFileSize: 740.5 KiB