Package: LBE Version: 1.77.0 Command: /home/biocbuild/R/R/bin/R CMD INSTALL LBE StartedAt: 2025-07-14 20:11:13 -0000 (Mon, 14 Jul 2025) EndedAt: 2025-07-14 20:11:43 -0000 (Mon, 14 Jul 2025) EllapsedTime: 30.8 seconds RetCode: 0 Status: OK