Package: LBE Version: 1.77.0 Command: /home/biocbuild/R/R/bin/R CMD build --keep-empty-dirs --no-resave-data LBE StartedAt: 2025-07-15 00:32:55 -0000 (Tue, 15 Jul 2025) EndedAt: 2025-07-15 00:33:02 -0000 (Tue, 15 Jul 2025) EllapsedTime: 7.0 seconds RetCode: 0 Status: OK PackageFile: LBE_1.77.0.tar.gz PackageFileSize: 776.6 KiB