Package: LBE Version: 1.77.0 Command: chmod a+r LBE -R && F:\biocbuild\bbs-3.22-bioc\R\bin\R.exe CMD build --keep-empty-dirs --no-resave-data LBE StartedAt: 2025-07-24 20:11:00 -0400 (Thu, 24 Jul 2025) EndedAt: 2025-07-24 20:11:14 -0400 (Thu, 24 Jul 2025) EllapsedTime: 14.3 seconds RetCode: 0 Status: OK PackageFile: LBE_1.77.0.tar.gz PackageFileSize: 785.5 KiB