Package: LBE Version: 1.77.0 Command: /Library/Frameworks/R.framework/Resources/bin/R CMD check --install=check:LBE.install-out.txt --library=/Library/Frameworks/R.framework/Resources/library --no-vignettes --timings LBE_1.77.0.tar.gz StartedAt: 2025-07-14 21:35:20 -0400 (Mon, 14 Jul 2025) EndedAt: 2025-07-14 21:35:47 -0400 (Mon, 14 Jul 2025) EllapsedTime: 26.4 seconds RetCode: 0 Status: OK CheckDir: LBE.Rcheck Warnings: 0