Package: LBE Version: 1.77.0 Command: /Library/Frameworks/R.framework/Resources/bin/R CMD build --keep-empty-dirs --no-resave-data LBE StartedAt: 2025-07-14 17:25:51 -0400 (Mon, 14 Jul 2025) EndedAt: 2025-07-14 17:26:02 -0400 (Mon, 14 Jul 2025) EllapsedTime: 11.4 seconds RetCode: 0 Status: OK PackageFile: LBE_1.77.0.tar.gz PackageFileSize: 783.3 KiB