Package: LBE Version: 1.77.0 Command: /Library/Frameworks/R.framework/Resources/bin/R CMD INSTALL LBE StartedAt: 2025-10-03 15:01:59 -0400 (Fri, 03 Oct 2025) EndedAt: 2025-10-03 15:02:08 -0400 (Fri, 03 Oct 2025) EllapsedTime: 8.7 seconds RetCode: 0 Status: OK