Package: LBE Version: 1.77.0 Command: /Library/Frameworks/R.framework/Resources/bin/R CMD check --install=check:LBE.install-out.txt --library=/Library/Frameworks/R.framework/Resources/library --no-vignettes --timings LBE_1.77.0.tar.gz StartedAt: 2025-10-03 20:06:45 -0400 (Fri, 03 Oct 2025) EndedAt: 2025-10-03 20:06:55 -0400 (Fri, 03 Oct 2025) EllapsedTime: 10.2 seconds RetCode: 0 Status: OK CheckDir: LBE.Rcheck Warnings: 0