Package: LBE Version: 1.77.0 Command: /Library/Frameworks/R.framework/Resources/bin/R CMD build --keep-empty-dirs --no-resave-data LBE StartedAt: 2025-10-05 16:52:40 -0400 (Sun, 05 Oct 2025) EndedAt: 2025-10-05 16:52:44 -0400 (Sun, 05 Oct 2025) EllapsedTime: 4.1 seconds RetCode: 0 Status: OK PackageFile: LBE_1.77.0.tar.gz PackageFileSize: 784.2 KiB