Package: LBE Version: 1.77.0 Command: rm -rf LBE.buildbin-libdir && mkdir LBE.buildbin-libdir && /Users/biocbuild/BBS/utils/build-universal.sh LBE_1.77.0.tar.gz /Library/Frameworks/R.framework/Resources/bin/R LBE.buildbin-libdir StartedAt: 2025-10-03 22:43:59 -0400 (Fri, 03 Oct 2025) EndedAt: 2025-10-03 22:44:01 -0400 (Fri, 03 Oct 2025) EllapsedTime: 2.1 seconds RetCode: 0 Status: OK PackageFile: LBE_1.77.0.tgz PackageFileSize: 813 KiB