Package: KnowSeq Version: 1.23.0 Command: chmod a+r KnowSeq -R && F:\biocbuild\bbs-3.22-bioc\R\bin\R.exe CMD build --keep-empty-dirs --no-resave-data KnowSeq StartedAt: 2025-07-02 20:04:26 -0400 (Wed, 02 Jul 2025) EndedAt: 2025-07-02 20:07:49 -0400 (Wed, 02 Jul 2025) EllapsedTime: 203.0 seconds RetCode: 0 Status: OK PackageFile: KnowSeq_1.23.0.tar.gz PackageFileSize: 7.855 MiB