Package: KnowSeq Version: 1.23.0 Command: rm -rf KnowSeq.buildbin-libdir && mkdir KnowSeq.buildbin-libdir && F:\biocbuild\bbs-3.22-bioc\R\bin\R.exe CMD INSTALL --build --library=KnowSeq.buildbin-libdir KnowSeq_1.23.0.tar.gz StartedAt: 2025-07-04 09:16:06 -0400 (Fri, 04 Jul 2025) EndedAt: 2025-07-04 09:16:59 -0400 (Fri, 04 Jul 2025) EllapsedTime: 53.2 seconds RetCode: 0 Status: OK PackageFile: KnowSeq_1.23.0.zip PackageFileSize: 6.152 MiB