Package: KEGGlincs Version: 1.35.0 Command: /home/biocbuild/R/R/bin/R CMD INSTALL KEGGlincs StartedAt: 2025-07-24 22:05:53 -0000 (Thu, 24 Jul 2025) EndedAt: 2025-07-24 22:06:16 -0000 (Thu, 24 Jul 2025) EllapsedTime: 22.9 seconds RetCode: 0 Status: OK