Package: KEGGlincs Version: 1.35.0 Command: /Library/Frameworks/R.framework/Resources/bin/R CMD check --install=check:KEGGlincs.install-out.txt --library=/Library/Frameworks/R.framework/Resources/library --no-vignettes --timings KEGGlincs_1.35.0.tar.gz StartedAt: 2025-07-01 21:34:42 -0400 (Tue, 01 Jul 2025) EndedAt: 2025-07-01 21:39:06 -0400 (Tue, 01 Jul 2025) EllapsedTime: 264.1 seconds RetCode: 0 Status: OK CheckDir: KEGGlincs.Rcheck Warnings: 0