Package: KEGGREST Version: 1.49.1 Command: /home/biocbuild/R/R/bin/R CMD INSTALL KEGGREST StartedAt: 2025-07-17 20:35:49 -0000 (Thu, 17 Jul 2025) EndedAt: 2025-07-17 20:36:02 -0000 (Thu, 17 Jul 2025) EllapsedTime: 12.9 seconds RetCode: 0 Status: OK