Package: KEGGREST Version: 1.49.1 Command: /home/biocbuild/R/R/bin/R CMD build --keep-empty-dirs --no-resave-data KEGGREST StartedAt: 2025-07-18 00:42:08 -0000 (Fri, 18 Jul 2025) EndedAt: 2025-07-18 00:42:50 -0000 (Fri, 18 Jul 2025) EllapsedTime: 42.0 seconds RetCode: 0 Status: OK PackageFile: KEGGREST_1.49.1.tar.gz PackageFileSize: 259.2 KiB