Package: KEGGREST Version: 1.49.1 Command: F:\biocbuild\bbs-3.22-bioc\R\bin\R.exe CMD INSTALL KEGGREST StartedAt: 2025-07-22 15:35:44 -0400 (Tue, 22 Jul 2025) EndedAt: 2025-07-22 15:36:08 -0400 (Tue, 22 Jul 2025) EllapsedTime: 24.7 seconds RetCode: 0 Status: OK