Package: KEGGREST Version: 1.49.1 Command: F:\biocbuild\bbs-3.22-bioc\R\bin\R.exe CMD check --no-multiarch --install=check:KEGGREST.install-out.txt --library=F:\biocbuild\bbs-3.22-bioc\R\library --no-vignettes --timings KEGGREST_1.49.1.tar.gz StartedAt: 2025-07-23 03:27:46 -0400 (Wed, 23 Jul 2025) EndedAt: 2025-07-23 03:31:15 -0400 (Wed, 23 Jul 2025) EllapsedTime: 209.3 seconds RetCode: 0 Status: OK CheckDir: KEGGREST.Rcheck Warnings: 0