Package: KEGGREST Version: 1.49.1 Command: chmod a+r KEGGREST -R && F:\biocbuild\bbs-3.22-bioc\R\bin\R.exe CMD build --keep-empty-dirs --no-resave-data KEGGREST StartedAt: 2025-07-22 19:58:20 -0400 (Tue, 22 Jul 2025) EndedAt: 2025-07-22 19:59:07 -0400 (Tue, 22 Jul 2025) EllapsedTime: 46.9 seconds RetCode: 0 Status: OK PackageFile: KEGGREST_1.49.1.tar.gz PackageFileSize: 233.7 KiB