Package: KEGGREST Version: 1.49.1 Command: rm -rf KEGGREST.buildbin-libdir && mkdir KEGGREST.buildbin-libdir && F:\biocbuild\bbs-3.22-bioc\R\bin\R.exe CMD INSTALL --build --library=KEGGREST.buildbin-libdir KEGGREST_1.49.1.tar.gz StartedAt: 2025-07-23 09:24:54 -0400 (Wed, 23 Jul 2025) EndedAt: 2025-07-23 09:25:22 -0400 (Wed, 23 Jul 2025) EllapsedTime: 27.8 seconds RetCode: 0 Status: OK PackageFile: KEGGREST_1.49.1.zip PackageFileSize: 400.8 KiB