Package: KEGGREST Version: 1.49.1 Command: /Library/Frameworks/R.framework/Resources/bin/R CMD INSTALL KEGGREST StartedAt: 2025-06-29 15:17:19 -0400 (Sun, 29 Jun 2025) EndedAt: 2025-06-29 15:17:36 -0400 (Sun, 29 Jun 2025) EllapsedTime: 17.5 seconds RetCode: 0 Status: OK