Package: KEGGREST Version: 1.49.1 Command: /Library/Frameworks/R.framework/Resources/bin/R CMD check --install=check:KEGGREST.install-out.txt --library=/Library/Frameworks/R.framework/Resources/library --no-vignettes --timings KEGGREST_1.49.1.tar.gz StartedAt: 2025-06-29 21:17:40 -0400 (Sun, 29 Jun 2025) EndedAt: 2025-06-29 21:21:26 -0400 (Sun, 29 Jun 2025) EllapsedTime: 226.4 seconds RetCode: 0 Status: OK CheckDir: KEGGREST.Rcheck Warnings: 0