Package: KEGGREST Version: 1.49.1 Command: /Library/Frameworks/R.framework/Resources/bin/R CMD build --keep-empty-dirs --no-resave-data KEGGREST StartedAt: 2025-06-29 17:12:34 -0400 (Sun, 29 Jun 2025) EndedAt: 2025-06-29 17:13:12 -0400 (Sun, 29 Jun 2025) EllapsedTime: 37.8 seconds RetCode: 0 Status: OK PackageFile: KEGGREST_1.49.1.tar.gz PackageFileSize: 233.5 KiB