Package: KEGGREST Version: 1.49.1 Command: /Library/Frameworks/R.framework/Resources/bin/R CMD INSTALL KEGGREST StartedAt: 2025-07-14 15:08:50 -0400 (Mon, 14 Jul 2025) EndedAt: 2025-07-14 15:08:54 -0400 (Mon, 14 Jul 2025) EllapsedTime: 4.3 seconds RetCode: 0 Status: OK