Package: KEGGREST Version: 1.49.1 Command: /Library/Frameworks/R.framework/Resources/bin/R CMD check --install=check:KEGGREST.install-out.txt --library=/Library/Frameworks/R.framework/Resources/library --no-vignettes --timings KEGGREST_1.49.1.tar.gz StartedAt: 2025-07-14 19:51:17 -0400 (Mon, 14 Jul 2025) EndedAt: 2025-07-14 19:53:57 -0400 (Mon, 14 Jul 2025) EllapsedTime: 160.1 seconds RetCode: 0 Status: OK CheckDir: KEGGREST.Rcheck Warnings: 0