Package: KEGGREST Version: 1.49.1 Command: /Library/Frameworks/R.framework/Resources/bin/R CMD build --keep-empty-dirs --no-resave-data KEGGREST StartedAt: 2025-07-14 16:44:00 -0400 (Mon, 14 Jul 2025) EndedAt: 2025-07-14 16:44:26 -0400 (Mon, 14 Jul 2025) EllapsedTime: 25.3 seconds RetCode: 0 Status: OK PackageFile: KEGGREST_1.49.1.tar.gz PackageFileSize: 233.6 KiB