Package: KCsmart Version: 2.67.0 Command: /home/biocbuild/R/R/bin/R CMD build --keep-empty-dirs --no-resave-data KCsmart StartedAt: 2025-07-25 01:31:27 -0000 (Fri, 25 Jul 2025) EndedAt: 2025-07-25 01:31:58 -0000 (Fri, 25 Jul 2025) EllapsedTime: 31.0 seconds RetCode: 0 Status: OK PackageFile: KCsmart_2.67.0.tar.gz PackageFileSize: 1.804 MiB