Package: KCsmart Version: 2.67.0 Command: rm -rf KCsmart.buildbin-libdir && mkdir KCsmart.buildbin-libdir && /Users/biocbuild/BBS/utils/build-universal.sh KCsmart_2.67.0.tar.gz /Library/Frameworks/R.framework/Resources/bin/R KCsmart.buildbin-libdir StartedAt: 2025-07-22 22:28:43 -0400 (Tue, 22 Jul 2025) EndedAt: 2025-07-22 22:28:48 -0400 (Tue, 22 Jul 2025) EllapsedTime: 5.1 seconds RetCode: 0 Status: OK PackageFile: KCsmart_2.67.0.tgz PackageFileSize: 2.199 MiB