Package: KBoost Version: 1.17.0 Command: /home/biocbuild/R/R/bin/R CMD INSTALL KBoost StartedAt: 2025-07-14 20:10:22 -0000 (Mon, 14 Jul 2025) EndedAt: 2025-07-14 20:10:32 -0000 (Mon, 14 Jul 2025) EllapsedTime: 9.7 seconds RetCode: 0 Status: OK