Package: KBoost Version: 1.17.0 Command: /Library/Frameworks/R.framework/Resources/bin/R CMD check --install=check:KBoost.install-out.txt --library=/Library/Frameworks/R.framework/Resources/library --no-vignettes --timings KBoost_1.17.0.tar.gz StartedAt: 2025-07-11 21:31:50 -0400 (Fri, 11 Jul 2025) EndedAt: 2025-07-11 21:32:36 -0400 (Fri, 11 Jul 2025) EllapsedTime: 46.0 seconds RetCode: 0 Status: OK CheckDir: KBoost.Rcheck Warnings: 0