Package: KBoost Version: 1.17.0 Command: rm -rf KBoost.buildbin-libdir && mkdir KBoost.buildbin-libdir && /Users/biocbuild/BBS/utils/build-universal.sh KBoost_1.17.0.tar.gz /Library/Frameworks/R.framework/Resources/bin/R KBoost.buildbin-libdir StartedAt: 2025-07-12 01:02:33 -0400 (Sat, 12 Jul 2025) EndedAt: 2025-07-12 01:02:39 -0400 (Sat, 12 Jul 2025) EllapsedTime: 5.8 seconds RetCode: 0 Status: OK PackageFile: KBoost_1.17.0.tgz PackageFileSize: 576 KiB