Package: KBoost Version: 1.17.0 Command: /Library/Frameworks/R.framework/Resources/bin/R CMD INSTALL KBoost StartedAt: 2025-07-04 15:01:54 -0400 (Fri, 04 Jul 2025) EndedAt: 2025-07-04 15:01:56 -0400 (Fri, 04 Jul 2025) EllapsedTime: 2.4 seconds RetCode: 0 Status: OK