Package: KBoost Version: 1.17.0 Command: /Library/Frameworks/R.framework/Resources/bin/R CMD check --install=check:KBoost.install-out.txt --library=/Library/Frameworks/R.framework/Resources/library --no-vignettes --timings KBoost_1.17.0.tar.gz StartedAt: 2025-07-04 19:49:31 -0400 (Fri, 04 Jul 2025) EndedAt: 2025-07-04 19:49:51 -0400 (Fri, 04 Jul 2025) EllapsedTime: 20.3 seconds RetCode: 0 Status: OK CheckDir: KBoost.Rcheck Warnings: 0