Package: KBoost Version: 1.17.0 Command: /Library/Frameworks/R.framework/Resources/bin/R CMD build --keep-empty-dirs --no-resave-data KBoost StartedAt: 2025-07-04 16:42:41 -0400 (Fri, 04 Jul 2025) EndedAt: 2025-07-04 16:42:45 -0400 (Fri, 04 Jul 2025) EllapsedTime: 4.0 seconds RetCode: 0 Status: OK PackageFile: KBoost_1.17.0.tar.gz PackageFileSize: 504 KiB