Package: IsoformSwitchAnalyzeR Version: 2.9.0 Command: /home/biocbuild/R/R/bin/R CMD INSTALL IsoformSwitchAnalyzeR StartedAt: 2025-06-30 21:15:23 -0000 (Mon, 30 Jun 2025) EndedAt: 2025-06-30 21:16:48 -0000 (Mon, 30 Jun 2025) EllapsedTime: 85.3 seconds RetCode: 0 Status: OK