Package: IsoformSwitchAnalyzeR Version: 2.9.0 Command: /home/biocbuild/R/R/bin/R CMD build --keep-empty-dirs --no-resave-data IsoformSwitchAnalyzeR StartedAt: 2025-07-01 00:30:07 -0000 (Tue, 01 Jul 2025) EndedAt: 2025-07-01 00:35:32 -0000 (Tue, 01 Jul 2025) EllapsedTime: 325.1 seconds RetCode: 0 Status: OK PackageFile: IsoformSwitchAnalyzeR_2.9.0.tar.gz PackageFileSize: 4.81 MiB