Package: InteractionSet Version: 1.37.0 Command: /home/biocbuild/R/R/bin/R CMD check --install=check:InteractionSet.install-out.txt --library=/home/biocbuild/R/R/site-library --no-vignettes --timings InteractionSet_1.37.0.tar.gz StartedAt: 2025-07-18 07:49:57 -0000 (Fri, 18 Jul 2025) EndedAt: 2025-07-18 07:55:15 -0000 (Fri, 18 Jul 2025) EllapsedTime: 318.4 seconds RetCode: 0 Status: OK CheckDir: InteractionSet.Rcheck Warnings: 0