Package: InteractionSet Version: 1.37.0 Command: /home/biocbuild/R/R/bin/R CMD build --keep-empty-dirs --no-resave-data InteractionSet StartedAt: 2025-07-15 00:25:18 -0000 (Tue, 15 Jul 2025) EndedAt: 2025-07-15 00:26:36 -0000 (Tue, 15 Jul 2025) EllapsedTime: 78.0 seconds RetCode: 0 Status: OK PackageFile: InteractionSet_1.37.0.tar.gz PackageFileSize: 457.2 KiB