Package: InteractionSet Version: 1.37.1 Command: F:\biocbuild\bbs-3.22-bioc\R\bin\R.exe CMD check --no-multiarch --install=check:InteractionSet.install-out.txt --library=F:\biocbuild\bbs-3.22-bioc\R\library --no-vignettes --timings InteractionSet_1.37.1.tar.gz StartedAt: 2025-07-19 03:19:01 -0400 (Sat, 19 Jul 2025) EndedAt: 2025-07-19 03:24:21 -0400 (Sat, 19 Jul 2025) EllapsedTime: 320.1 seconds RetCode: 0 Status: OK CheckDir: InteractionSet.Rcheck Warnings: 0