Package: InteractionSet Version: 1.37.0 Command: chmod a+r InteractionSet -R && F:\biocbuild\bbs-3.22-bioc\R\bin\R.exe CMD build --keep-empty-dirs --no-resave-data InteractionSet StartedAt: 2025-07-17 19:46:54 -0400 (Thu, 17 Jul 2025) EndedAt: 2025-07-17 19:48:30 -0400 (Thu, 17 Jul 2025) EllapsedTime: 96.0 seconds RetCode: 0 Status: OK PackageFile: InteractionSet_1.37.0.tar.gz PackageFileSize: 391.5 KiB