Package: InteractionSet Version: 1.37.0 Command: rm -rf InteractionSet.buildbin-libdir && mkdir InteractionSet.buildbin-libdir && F:\biocbuild\bbs-3.22-bioc\R\bin\R.exe CMD INSTALL --build --library=InteractionSet.buildbin-libdir InteractionSet_1.37.0.tar.gz StartedAt: 2025-07-18 09:11:44 -0400 (Fri, 18 Jul 2025) EndedAt: 2025-07-18 09:16:31 -0400 (Fri, 18 Jul 2025) EllapsedTime: 287.6 seconds RetCode: 0 Status: OK PackageFile: InteractionSet_1.37.0.zip PackageFileSize: 1.866 MiB