Package: InteractionSet Version: 1.37.0 Command: /home/biocbuild/bbs-3.22-bioc/R/bin/R CMD INSTALL InteractionSet StartedAt: 2025-07-15 15:20:48 -0400 (Tue, 15 Jul 2025) EndedAt: 2025-07-15 15:21:31 -0400 (Tue, 15 Jul 2025) EllapsedTime: 42.7 seconds RetCode: 0 Status: OK