Package: InteractionSet Version: 1.37.0 Command: /home/biocbuild/bbs-3.22-bioc/R/bin/R CMD build --keep-empty-dirs --no-resave-data --md5 InteractionSet StartedAt: 2025-07-16 17:56:08 -0400 (Wed, 16 Jul 2025) EndedAt: 2025-07-16 17:57:06 -0400 (Wed, 16 Jul 2025) EllapsedTime: 58.0 seconds RetCode: 0 Status: OK PackageFile: InteractionSet_1.37.0.tar.gz PackageFileSize: 393.6 KiB