Package: InteractionSet Version: 1.37.0 Command: /Library/Frameworks/R.framework/Resources/bin/R CMD INSTALL InteractionSet StartedAt: 2025-07-14 15:31:13 -0400 (Mon, 14 Jul 2025) EndedAt: 2025-07-14 15:32:08 -0400 (Mon, 14 Jul 2025) EllapsedTime: 55.5 seconds RetCode: 0 Status: OK