Package: InteractionSet Version: 1.37.0 Command: /Library/Frameworks/R.framework/Resources/bin/R CMD check --install=check:InteractionSet.install-out.txt --library=/Library/Frameworks/R.framework/Resources/library --no-vignettes --timings InteractionSet_1.37.0.tar.gz StartedAt: 2025-07-14 21:27:02 -0400 (Mon, 14 Jul 2025) EndedAt: 2025-07-14 21:31:43 -0400 (Mon, 14 Jul 2025) EllapsedTime: 280.9 seconds RetCode: 0 Status: OK CheckDir: InteractionSet.Rcheck Warnings: 0