Package: InteractionSet Version: 1.37.0 Command: /Library/Frameworks/R.framework/Resources/bin/R CMD build --keep-empty-dirs --no-resave-data InteractionSet StartedAt: 2025-07-14 17:21:48 -0400 (Mon, 14 Jul 2025) EndedAt: 2025-07-14 17:23:00 -0400 (Mon, 14 Jul 2025) EllapsedTime: 71.9 seconds RetCode: 0 Status: OK PackageFile: InteractionSet_1.37.0.tar.gz PackageFileSize: 391 KiB