Package: InteractionSet Version: 1.37.0 Command: /Library/Frameworks/R.framework/Resources/bin/R CMD INSTALL InteractionSet StartedAt: 2025-07-16 15:13:42 -0400 (Wed, 16 Jul 2025) EndedAt: 2025-07-16 15:13:57 -0400 (Wed, 16 Jul 2025) EllapsedTime: 15.3 seconds RetCode: 0 Status: OK