Package: InteractionSet Version: 1.37.0 Command: /Library/Frameworks/R.framework/Resources/bin/R CMD check --install=check:InteractionSet.install-out.txt --library=/Library/Frameworks/R.framework/Resources/library --no-vignettes --timings InteractionSet_1.37.0.tar.gz StartedAt: 2025-07-16 19:45:07 -0400 (Wed, 16 Jul 2025) EndedAt: 2025-07-16 19:46:36 -0400 (Wed, 16 Jul 2025) EllapsedTime: 89.1 seconds RetCode: 0 Status: OK CheckDir: InteractionSet.Rcheck Warnings: 0